BEGIN:VCALENDAR
VERSION:2.0
PRODID:-//Santa Maria Karting Association - ECPv6.15.20//NONSGML v1.0//EN
CALSCALE:GREGORIAN
METHOD:PUBLISH
X-ORIGINAL-URL:https://www.smka.org
X-WR-CALDESC:Events for Santa Maria Karting Association
REFRESH-INTERVAL;VALUE=DURATION:PT1H
X-Robots-Tag:noindex
X-PUBLISHED-TTL:PT1H
BEGIN:VTIMEZONE
TZID:America/Los_Angeles
BEGIN:DAYLIGHT
TZOFFSETFROM:-0800
TZOFFSETTO:-0700
TZNAME:PDT
DTSTART:20250309T100000
END:DAYLIGHT
BEGIN:STANDARD
TZOFFSETFROM:-0700
TZOFFSETTO:-0800
TZNAME:PST
DTSTART:20251102T090000
END:STANDARD
BEGIN:DAYLIGHT
TZOFFSETFROM:-0800
TZOFFSETTO:-0700
TZNAME:PDT
DTSTART:20260308T100000
END:DAYLIGHT
BEGIN:STANDARD
TZOFFSETFROM:-0700
TZOFFSETTO:-0800
TZNAME:PST
DTSTART:20261101T090000
END:STANDARD
BEGIN:DAYLIGHT
TZOFFSETFROM:-0800
TZOFFSETTO:-0700
TZNAME:PDT
DTSTART:20270314T100000
END:DAYLIGHT
BEGIN:STANDARD
TZOFFSETFROM:-0700
TZOFFSETTO:-0800
TZNAME:PST
DTSTART:20271107T090000
END:STANDARD
END:VTIMEZONE
BEGIN:VEVENT
DTSTART;TZID=America/Los_Angeles:20260610T000000
DTEND;TZID=America/Los_Angeles:20260610T000000
DTSTAMP:20260425T041440
CREATED:20260109T035917Z
LAST-MODIFIED:20260109T035917Z
UID:3560-1781049600-1781049600@www.smka.org
SUMMARY:June SMKA Board Meeting
DESCRIPTION:Meeting Date: Wednesday\, June 10th\, 2026. The SMKA Board meets on the second Wednesday of the month at Giovanni’s in Orcutt. Members are welcome to attend the monthly board meeting. Dinner precedes the meeting\, which promptly starts at 6 p.m.
URL:https://www.smka.org/event/june-smka-board-meeting-3/
END:VEVENT
BEGIN:VEVENT
DTSTART;TZID=America/Los_Angeles:20260614T000000
DTEND;TZID=America/Los_Angeles:20260614T000000
DTSTAMP:20260425T041440
CREATED:20260109T035922Z
LAST-MODIFIED:20260305T071552Z
UID:3561-1781395200-1781395200@www.smka.org
SUMMARY:SMKA Club Race #4
DESCRIPTION:The track is reserved for club racing or member events on Sunday\, June 14th\, 2026. \nArrive and Drive is available through Formula KFX. https://formulakfx.com/smka/
URL:https://www.smka.org/event/smka-club-event-12/
LOCATION:SMKA
END:VEVENT
BEGIN:VEVENT
DTSTART;VALUE=DATE:20260620
DTEND;VALUE=DATE:20260622
DTSTAMP:20260425T041440
CREATED:20260113T055214Z
LAST-MODIFIED:20260113T055238Z
UID:3589-1781913600-1782086399@www.smka.org
SUMMARY:CCKRA
DESCRIPTION:
URL:https://www.smka.org/event/cckra/
LOCATION:SMKA
END:VEVENT
END:VCALENDAR