BEGIN:VCALENDAR
VERSION:2.0
PRODID:-//Santa Maria Karting Association - ECPv6.15.20//NONSGML v1.0//EN
CALSCALE:GREGORIAN
METHOD:PUBLISH
X-ORIGINAL-URL:https://www.smka.org
X-WR-CALDESC:Events for Santa Maria Karting Association
REFRESH-INTERVAL;VALUE=DURATION:PT1H
X-Robots-Tag:noindex
X-PUBLISHED-TTL:PT1H
BEGIN:VTIMEZONE
TZID:America/Los_Angeles
BEGIN:DAYLIGHT
TZOFFSETFROM:-0800
TZOFFSETTO:-0700
TZNAME:PDT
DTSTART:20250309T100000
END:DAYLIGHT
BEGIN:STANDARD
TZOFFSETFROM:-0700
TZOFFSETTO:-0800
TZNAME:PST
DTSTART:20251102T090000
END:STANDARD
BEGIN:DAYLIGHT
TZOFFSETFROM:-0800
TZOFFSETTO:-0700
TZNAME:PDT
DTSTART:20260308T100000
END:DAYLIGHT
BEGIN:STANDARD
TZOFFSETFROM:-0700
TZOFFSETTO:-0800
TZNAME:PST
DTSTART:20261101T090000
END:STANDARD
BEGIN:DAYLIGHT
TZOFFSETFROM:-0800
TZOFFSETTO:-0700
TZNAME:PDT
DTSTART:20270314T100000
END:DAYLIGHT
BEGIN:STANDARD
TZOFFSETFROM:-0700
TZOFFSETTO:-0800
TZNAME:PST
DTSTART:20271107T090000
END:STANDARD
END:VTIMEZONE
BEGIN:VEVENT
DTSTART;TZID=America/Los_Angeles:20260311T000000
DTEND;TZID=America/Los_Angeles:20260311T000000
DTSTAMP:20260423T085440
CREATED:20260109T035910Z
LAST-MODIFIED:20260109T035910Z
UID:3550-1773187200-1773187200@www.smka.org
SUMMARY:March SMKA Board Meeting
DESCRIPTION:Meeting Date: Wednesday\, March 11th\, 2026. The SMKA Board meets on the second Wednesday of the month at Giovanni’s in Orcutt. Members are welcome to attend the monthly board meeting. Dinner precedes the meeting\, which promptly starts at 6 p.m.
URL:https://www.smka.org/event/march-smka-board-meeting-3/
END:VEVENT
BEGIN:VEVENT
DTSTART;TZID=America/Los_Angeles:20260322T080000
DTEND;TZID=America/Los_Angeles:20260322T160000
DTSTAMP:20260423T085440
CREATED:20260109T035912Z
LAST-MODIFIED:20260313T034820Z
UID:3552-1774166400-1774195200@www.smka.org
SUMMARY:SMKA Club Race #1
DESCRIPTION:SMKA Club Race #1  \nTrack layout K  \nGates open at 7:00 AM.  Registration closes at 9 (cash or check only!).  Drivers meeting 9:15.  \nArrive and Drive is available through Formula KFX. https://formulakfx.com/smka/
URL:https://www.smka.org/event/smka-club-event-9/
LOCATION:SMKA
END:VEVENT
END:VCALENDAR