BEGIN:VCALENDAR
VERSION:2.0
PRODID:-//Santa Maria Karting Association - ECPv6.15.20//NONSGML v1.0//EN
CALSCALE:GREGORIAN
METHOD:PUBLISH
X-WR-CALNAME:Santa Maria Karting Association
X-ORIGINAL-URL:https://www.smka.org
X-WR-CALDESC:Events for Santa Maria Karting Association
REFRESH-INTERVAL;VALUE=DURATION:PT1H
X-Robots-Tag:noindex
X-PUBLISHED-TTL:PT1H
BEGIN:VTIMEZONE
TZID:America/Los_Angeles
BEGIN:DAYLIGHT
TZOFFSETFROM:-0800
TZOFFSETTO:-0700
TZNAME:PDT
DTSTART:20240310T100000
END:DAYLIGHT
BEGIN:STANDARD
TZOFFSETFROM:-0700
TZOFFSETTO:-0800
TZNAME:PST
DTSTART:20241103T090000
END:STANDARD
BEGIN:DAYLIGHT
TZOFFSETFROM:-0800
TZOFFSETTO:-0700
TZNAME:PDT
DTSTART:20250309T100000
END:DAYLIGHT
BEGIN:STANDARD
TZOFFSETFROM:-0700
TZOFFSETTO:-0800
TZNAME:PST
DTSTART:20251102T090000
END:STANDARD
BEGIN:DAYLIGHT
TZOFFSETFROM:-0800
TZOFFSETTO:-0700
TZNAME:PDT
DTSTART:20260308T100000
END:DAYLIGHT
BEGIN:STANDARD
TZOFFSETFROM:-0700
TZOFFSETTO:-0800
TZNAME:PST
DTSTART:20261101T090000
END:STANDARD
END:VTIMEZONE
BEGIN:VEVENT
DTSTART;TZID=America/Los_Angeles:20251108T000000
DTEND;TZID=America/Los_Angeles:20251108T000000
DTSTAMP:20260423T144851
CREATED:20241119T045750Z
LAST-MODIFIED:20241119T045750Z
UID:3416-1762560000-1762560000@www.smka.org
SUMMARY:Motorcycle Track day - Saturday\, November\, 8th (Track Closed to Karts)
DESCRIPTION:Open Track Day for Motorcycles on Saturday\, December 14th. Gates open at 8 AM. Please contact Ashley at a.evans.smka@gmail.com for information regarding motorcycles. The track will be closed to karts on this day.
URL:https://www.smka.org/event/motorcycle-track-day-saturday-november-8th-track-closed-to-karts/
ORGANIZER;CN="SMKA":MAILTO:info@smka.org
END:VEVENT
BEGIN:VEVENT
DTSTART;TZID=America/Los_Angeles:20251112T000000
DTEND;TZID=America/Los_Angeles:20251112T000000
DTSTAMP:20260423T144851
CREATED:20241119T045805Z
LAST-MODIFIED:20241119T045805Z
UID:3428-1762905600-1762905600@www.smka.org
SUMMARY:November SMKA Board Meeting
DESCRIPTION:The SMKA Board meets on the second Wednesday of the month at Giovanni’s in Orcutt. Members are welcome to attend the monthly board meeting. Dinner precedes the meeting\, which promptly starts at 6 p.m.
URL:https://www.smka.org/event/november-smka-board-meeting-2/
END:VEVENT
END:VCALENDAR