BEGIN:VCALENDAR
VERSION:2.0
PRODID:-//Santa Maria Karting Association - ECPv6.15.20//NONSGML v1.0//EN
CALSCALE:GREGORIAN
METHOD:PUBLISH
X-ORIGINAL-URL:https://www.smka.org
X-WR-CALDESC:Events for Santa Maria Karting Association
REFRESH-INTERVAL;VALUE=DURATION:PT1H
X-Robots-Tag:noindex
X-PUBLISHED-TTL:PT1H
BEGIN:VTIMEZONE
TZID:America/Los_Angeles
BEGIN:DAYLIGHT
TZOFFSETFROM:-0800
TZOFFSETTO:-0700
TZNAME:PDT
DTSTART:20240310T100000
END:DAYLIGHT
BEGIN:STANDARD
TZOFFSETFROM:-0700
TZOFFSETTO:-0800
TZNAME:PST
DTSTART:20241103T090000
END:STANDARD
BEGIN:DAYLIGHT
TZOFFSETFROM:-0800
TZOFFSETTO:-0700
TZNAME:PDT
DTSTART:20250309T100000
END:DAYLIGHT
BEGIN:STANDARD
TZOFFSETFROM:-0700
TZOFFSETTO:-0800
TZNAME:PST
DTSTART:20251102T090000
END:STANDARD
BEGIN:DAYLIGHT
TZOFFSETFROM:-0800
TZOFFSETTO:-0700
TZNAME:PDT
DTSTART:20260308T100000
END:DAYLIGHT
BEGIN:STANDARD
TZOFFSETFROM:-0700
TZOFFSETTO:-0800
TZNAME:PST
DTSTART:20261101T090000
END:STANDARD
END:VTIMEZONE
BEGIN:VEVENT
DTSTART;VALUE=DATE:20250706
DTEND;VALUE=DATE:20250707
DTSTAMP:20260423T202813
CREATED:20250218T002909Z
LAST-MODIFIED:20250218T002909Z
UID:3487-1751760000-1751846399@www.smka.org
SUMMARY:SMKA Club Race Round 5
DESCRIPTION:Round 5 of the SMKA Club Race Season\, See the 2025 Club Racing Section on the website for full details
URL:https://www.smka.org/event/smka-club-race-round-5/
LOCATION:SMKA
END:VEVENT
BEGIN:VEVENT
DTSTART;TZID=America/Los_Angeles:20250709T000000
DTEND;TZID=America/Los_Angeles:20250709T000000
DTSTAMP:20260423T202813
CREATED:20241119T045800Z
LAST-MODIFIED:20241119T045800Z
UID:3424-1752019200-1752019200@www.smka.org
SUMMARY:July SMKA Board Meeting
DESCRIPTION:The SMKA Board meets on the second Wednesday of the month at Giovanni’s in Orcutt. Members are welcome to attend the monthly board meeting. Dinner precedes the meeting\, which promptly starts at 6 p.m.
URL:https://www.smka.org/event/july-smka-board-meeting-2/
END:VEVENT
BEGIN:VEVENT
DTSTART;TZID=America/Los_Angeles:20250712T000000
DTEND;TZID=America/Los_Angeles:20250712T000000
DTSTAMP:20260423T202813
CREATED:20241119T045745Z
LAST-MODIFIED:20241119T045745Z
UID:3412-1752278400-1752278400@www.smka.org
SUMMARY:Motorcycle Track day - Saturday\, July\, 12th (Track Closed to Karts)
DESCRIPTION:Open Track Day for Motorcycles on Saturday\, December 14th. Gates open at 8 AM. Please contact Ashley at a.evans.smka@gmail.com for information regarding motorcycles. The track will be closed to karts on this day.
URL:https://www.smka.org/event/motorcycle-track-day-saturday-july-12th-track-closed-to-karts/
ORGANIZER;CN="SMKA":MAILTO:info@smka.org
END:VEVENT
BEGIN:VEVENT
DTSTART;VALUE=DATE:20250718
DTEND;VALUE=DATE:20250720
DTSTAMP:20260423T202813
CREATED:20250124T023943Z
LAST-MODIFIED:20250124T023943Z
UID:3462-1752796800-1752969599@www.smka.org
SUMMARY:Vintage Kart Club of America
DESCRIPTION:Santa Maria 2025 VKCA Major Event**Santa Maria Karting Association\, Santa Maria\, CA.Contact Steve Shaw 510-828-9151 \n** Major events require that karts adhere to the guidelines in the VKCA Mission Statement and the 2023 Rules on the Club Info page. Major events are Bakersfield\, Santa Maria and Medford and sanctioned by VKCA rules.
URL:https://www.smka.org/event/vintage-kart-club-of-america-3/
LOCATION:SMKA
ORGANIZER;CN="Vintage Kart Club of America":MAILTO:stburlap@yahoo.com
END:VEVENT
BEGIN:VEVENT
DTSTART;VALUE=DATE:20250726
DTEND;VALUE=DATE:20250728
DTSTAMP:20260423T202813
CREATED:20241119T050502Z
LAST-MODIFIED:20241119T050502Z
UID:3437-1753488000-1753660799@www.smka.org
SUMMARY:CCKRA Round 5 at SMKA - July 26-27th
DESCRIPTION:CCKRA Round 5 at SMKA – July 26-27th
URL:https://www.smka.org/event/cckra-round-5-at-smka-july-26-27th/
LOCATION:SMKA
END:VEVENT
END:VCALENDAR