BEGIN:VCALENDAR
VERSION:2.0
PRODID:-//Santa Maria Karting Association - ECPv6.15.20//NONSGML v1.0//EN
CALSCALE:GREGORIAN
METHOD:PUBLISH
X-ORIGINAL-URL:https://www.smka.org
X-WR-CALDESC:Events for Santa Maria Karting Association
REFRESH-INTERVAL;VALUE=DURATION:PT1H
X-Robots-Tag:noindex
X-PUBLISHED-TTL:PT1H
BEGIN:VTIMEZONE
TZID:America/Los_Angeles
BEGIN:DAYLIGHT
TZOFFSETFROM:-0800
TZOFFSETTO:-0700
TZNAME:PDT
DTSTART:20240310T100000
END:DAYLIGHT
BEGIN:STANDARD
TZOFFSETFROM:-0700
TZOFFSETTO:-0800
TZNAME:PST
DTSTART:20241103T090000
END:STANDARD
BEGIN:DAYLIGHT
TZOFFSETFROM:-0800
TZOFFSETTO:-0700
TZNAME:PDT
DTSTART:20250309T100000
END:DAYLIGHT
BEGIN:STANDARD
TZOFFSETFROM:-0700
TZOFFSETTO:-0800
TZNAME:PST
DTSTART:20251102T090000
END:STANDARD
BEGIN:DAYLIGHT
TZOFFSETFROM:-0800
TZOFFSETTO:-0700
TZNAME:PDT
DTSTART:20260308T100000
END:DAYLIGHT
BEGIN:STANDARD
TZOFFSETFROM:-0700
TZOFFSETTO:-0800
TZNAME:PST
DTSTART:20261101T090000
END:STANDARD
END:VTIMEZONE
BEGIN:VEVENT
DTSTART;TZID=America/Los_Angeles:20250510T000000
DTEND;TZID=America/Los_Angeles:20250510T000000
DTSTAMP:20260423T230327
CREATED:20241119T045745Z
LAST-MODIFIED:20241119T045745Z
UID:3410-1746835200-1746835200@www.smka.org
SUMMARY:Motorcycle Track day - Saturday\, May\, 10th (Track Closed to Karts)
DESCRIPTION:Open Track Day for Motorcycles on Saturday\, December 14th. Gates open at 8 AM. Please contact Ashley at a.evans.smka@gmail.com for information regarding motorcycles. The track will be closed to karts on this day.
URL:https://www.smka.org/event/motorcycle-track-day-saturday-may-10th-track-closed-to-karts/
ORGANIZER;CN="SMKA":MAILTO:info@smka.org
END:VEVENT
BEGIN:VEVENT
DTSTART;TZID=America/Los_Angeles:20250514T000000
DTEND;TZID=America/Los_Angeles:20250514T000000
DTSTAMP:20260423T230327
CREATED:20241119T045756Z
LAST-MODIFIED:20241119T045756Z
UID:3422-1747180800-1747180800@www.smka.org
SUMMARY:May SMKA Board Meeting
DESCRIPTION:The SMKA Board meets on the second Wednesday of the month at Giovanni’s in Orcutt. Members are welcome to attend the monthly board meeting. Dinner precedes the meeting\, which promptly starts at 6 p.m.
URL:https://www.smka.org/event/may-smka-board-meeting-2/
END:VEVENT
BEGIN:VEVENT
DTSTART;VALUE=DATE:20250518
DTEND;VALUE=DATE:20250519
DTSTAMP:20260423T230327
CREATED:20250218T002909Z
LAST-MODIFIED:20250218T002909Z
UID:3485-1747526400-1747612799@www.smka.org
SUMMARY:SMKA Club Race Round 3
DESCRIPTION:Round 3 of the SMKA Club Race Season\, See the 2025 Club Racing Section on the website for full details
URL:https://www.smka.org/event/smka-club-race-round-3/
LOCATION:SMKA
END:VEVENT
BEGIN:VEVENT
DTSTART;VALUE=DATE:20250531
DTEND;VALUE=DATE:20250602
DTSTAMP:20260423T230327
CREATED:20241119T050327Z
LAST-MODIFIED:20241119T050327Z
UID:3433-1748649600-1748822399@www.smka.org
SUMMARY:CCRKA Round 3 at SMKA
DESCRIPTION:CCRKA Round 3 at SMKA – May 31st – June 1st
URL:https://www.smka.org/event/ccrka-round-3-at-smka/
LOCATION:SMKA
END:VEVENT
END:VCALENDAR