BEGIN:VCALENDAR
VERSION:2.0
PRODID:-//Santa Maria Karting Association - ECPv6.15.20//NONSGML v1.0//EN
CALSCALE:GREGORIAN
METHOD:PUBLISH
X-WR-CALNAME:Santa Maria Karting Association
X-ORIGINAL-URL:https://www.smka.org
X-WR-CALDESC:Events for Santa Maria Karting Association
REFRESH-INTERVAL;VALUE=DURATION:PT1H
X-Robots-Tag:noindex
X-PUBLISHED-TTL:PT1H
BEGIN:VTIMEZONE
TZID:America/Los_Angeles
BEGIN:DAYLIGHT
TZOFFSETFROM:-0800
TZOFFSETTO:-0700
TZNAME:PDT
DTSTART:20240310T100000
END:DAYLIGHT
BEGIN:STANDARD
TZOFFSETFROM:-0700
TZOFFSETTO:-0800
TZNAME:PST
DTSTART:20241103T090000
END:STANDARD
BEGIN:DAYLIGHT
TZOFFSETFROM:-0800
TZOFFSETTO:-0700
TZNAME:PDT
DTSTART:20250309T100000
END:DAYLIGHT
BEGIN:STANDARD
TZOFFSETFROM:-0700
TZOFFSETTO:-0800
TZNAME:PST
DTSTART:20251102T090000
END:STANDARD
BEGIN:DAYLIGHT
TZOFFSETFROM:-0800
TZOFFSETTO:-0700
TZNAME:PDT
DTSTART:20260308T100000
END:DAYLIGHT
BEGIN:STANDARD
TZOFFSETFROM:-0700
TZOFFSETTO:-0800
TZNAME:PST
DTSTART:20261101T090000
END:STANDARD
END:VTIMEZONE
BEGIN:VEVENT
DTSTART;VALUE=DATE:20250406
DTEND;VALUE=DATE:20250407
DTSTAMP:20260424T004412
CREATED:20250218T002909Z
LAST-MODIFIED:20250218T002909Z
UID:3484-1743897600-1743983999@www.smka.org
SUMMARY:SMKA Club Race Round 2
DESCRIPTION:Round 2 of the SMKA Club Race Season\, See the 2025 Club Racing Section on the website for full details
URL:https://www.smka.org/event/smka-club-race-round-2/
LOCATION:SMKA
END:VEVENT
BEGIN:VEVENT
DTSTART;TZID=America/Los_Angeles:20250409T000000
DTEND;TZID=America/Los_Angeles:20250409T000000
DTSTAMP:20260424T004412
CREATED:20241119T045755Z
LAST-MODIFIED:20241119T045755Z
UID:3421-1744156800-1744156800@www.smka.org
SUMMARY:April SMKA Board Meeting
DESCRIPTION:The SMKA Board meets on the second Wednesday of the month at Giovanni’s in Orcutt. Members are welcome to attend the monthly board meeting. Dinner precedes the meeting\, which promptly starts at 6 p.m.
URL:https://www.smka.org/event/april-smka-board-meeting-2/
END:VEVENT
BEGIN:VEVENT
DTSTART;TZID=America/Los_Angeles:20250412T000000
DTEND;TZID=America/Los_Angeles:20250412T000000
DTSTAMP:20260424T004412
CREATED:20241119T045745Z
LAST-MODIFIED:20241119T045745Z
UID:3409-1744416000-1744416000@www.smka.org
SUMMARY:Motorcycle Track day - Saturday\, April\, 12th (Track Closed to Karts)
DESCRIPTION:Open Track Day for Motorcycles on Saturday\, December 14th. Gates open at 8 AM. Please contact Ashley at a.evans.smka@gmail.com for information regarding motorcycles. The track will be closed to karts on this day.
URL:https://www.smka.org/event/motorcycle-track-day-saturday-april-12th-track-closed-to-karts/
ORGANIZER;CN="SMKA":MAILTO:info@smka.org
END:VEVENT
BEGIN:VEVENT
DTSTART;VALUE=DATE:20250426
DTEND;VALUE=DATE:20250428
DTSTAMP:20260424T004412
CREATED:20241119T050153Z
LAST-MODIFIED:20250204T043246Z
UID:3430-1745625600-1745798399@www.smka.org
SUMMARY:South West Super Series - Adams
DESCRIPTION:This date is held for the South West Super Series at SMKA\, Saturday and Sunday\, April 26 & 27th. 
URL:https://www.smka.org/event/south-west-super-series-adams/
LOCATION:SMKA
END:VEVENT
END:VCALENDAR