BEGIN:VCALENDAR
VERSION:2.0
PRODID:-//Santa Maria Karting Association - ECPv6.15.20//NONSGML v1.0//EN
CALSCALE:GREGORIAN
METHOD:PUBLISH
X-WR-CALNAME:Santa Maria Karting Association
X-ORIGINAL-URL:https://www.smka.org
X-WR-CALDESC:Events for Santa Maria Karting Association
REFRESH-INTERVAL;VALUE=DURATION:PT1H
X-Robots-Tag:noindex
X-PUBLISHED-TTL:PT1H
BEGIN:VTIMEZONE
TZID:America/Los_Angeles
BEGIN:DAYLIGHT
TZOFFSETFROM:-0800
TZOFFSETTO:-0700
TZNAME:PDT
DTSTART:20240310T100000
END:DAYLIGHT
BEGIN:STANDARD
TZOFFSETFROM:-0700
TZOFFSETTO:-0800
TZNAME:PST
DTSTART:20241103T090000
END:STANDARD
BEGIN:DAYLIGHT
TZOFFSETFROM:-0800
TZOFFSETTO:-0700
TZNAME:PDT
DTSTART:20250309T100000
END:DAYLIGHT
BEGIN:STANDARD
TZOFFSETFROM:-0700
TZOFFSETTO:-0800
TZNAME:PST
DTSTART:20251102T090000
END:STANDARD
BEGIN:DAYLIGHT
TZOFFSETFROM:-0800
TZOFFSETTO:-0700
TZNAME:PDT
DTSTART:20260308T100000
END:DAYLIGHT
BEGIN:STANDARD
TZOFFSETFROM:-0700
TZOFFSETTO:-0800
TZNAME:PST
DTSTART:20261101T090000
END:STANDARD
END:VTIMEZONE
BEGIN:VEVENT
DTSTART;TZID=America/Los_Angeles:20250108T000000
DTEND;TZID=America/Los_Angeles:20250108T000000
DTSTAMP:20260424T044908
CREATED:20241119T045755Z
LAST-MODIFIED:20241119T045755Z
UID:3418-1736294400-1736294400@www.smka.org
SUMMARY:January SMKA Board Meeting
DESCRIPTION:The SMKA Board meets on the second Wednesday of the month at Giovanni’s in Orcutt. Members are welcome to attend the monthly board meeting. Dinner precedes the meeting\, which promptly starts at 6 p.m.
URL:https://www.smka.org/event/january-smka-board-meeting-2/
END:VEVENT
BEGIN:VEVENT
DTSTART;TZID=America/Los_Angeles:20250111T000000
DTEND;TZID=America/Los_Angeles:20250111T000000
DTSTAMP:20260424T044908
CREATED:20241119T045740Z
LAST-MODIFIED:20241119T045740Z
UID:3406-1736553600-1736553600@www.smka.org
SUMMARY:Motorcycle Track day - Saturday\, January\, 11th (Track Closed to Karts)
DESCRIPTION:Open Track Day for Motorcycles on Saturday\, 14th. Gates open at 8 AM. Please contact Ashley at a.evans.smka@gmail.com for information regarding motorcycles. The track will be closed to karts on this day.
URL:https://www.smka.org/event/motorcycle-track-day-saturday-january-11th-track-closed-to-karts/
ORGANIZER;CN="SMKA":MAILTO:info@smka.org
END:VEVENT
BEGIN:VEVENT
DTSTART;TZID=America/Los_Angeles:20250126T140000
DTEND;TZID=America/Los_Angeles:20250126T200000
DTSTAMP:20260424T044908
CREATED:20241119T061737Z
LAST-MODIFIED:20250109T055623Z
UID:3441-1737900000-1737921600@www.smka.org
SUMMARY:SMKA Club Banquet Dinner
DESCRIPTION:The SMKA is hosting a banquet dinner for members and friends of the association at the Elks Lodge on Sunday\, January 26th. \nDinner tickets will be $30/ea. \nWe look forward to seeing you at the banquet!  \nFull information is available HERE. 
URL:https://www.smka.org/event/smka-club-banquet-dinner/
END:VEVENT
END:VCALENDAR