BEGIN:VCALENDAR
VERSION:2.0
PRODID:-//Santa Maria Karting Association - ECPv6.15.20//NONSGML v1.0//EN
CALSCALE:GREGORIAN
METHOD:PUBLISH
X-WR-CALNAME:Santa Maria Karting Association
X-ORIGINAL-URL:https://www.smka.org
X-WR-CALDESC:Events for Santa Maria Karting Association
REFRESH-INTERVAL;VALUE=DURATION:PT1H
X-Robots-Tag:noindex
X-PUBLISHED-TTL:PT1H
BEGIN:VTIMEZONE
TZID:America/Los_Angeles
BEGIN:DAYLIGHT
TZOFFSETFROM:-0800
TZOFFSETTO:-0700
TZNAME:PDT
DTSTART:20230312T100000
END:DAYLIGHT
BEGIN:STANDARD
TZOFFSETFROM:-0700
TZOFFSETTO:-0800
TZNAME:PST
DTSTART:20231105T090000
END:STANDARD
BEGIN:DAYLIGHT
TZOFFSETFROM:-0800
TZOFFSETTO:-0700
TZNAME:PDT
DTSTART:20240310T100000
END:DAYLIGHT
BEGIN:STANDARD
TZOFFSETFROM:-0700
TZOFFSETTO:-0800
TZNAME:PST
DTSTART:20241103T090000
END:STANDARD
BEGIN:DAYLIGHT
TZOFFSETFROM:-0800
TZOFFSETTO:-0700
TZNAME:PDT
DTSTART:20250309T100000
END:DAYLIGHT
BEGIN:STANDARD
TZOFFSETFROM:-0700
TZOFFSETTO:-0800
TZNAME:PST
DTSTART:20251102T090000
END:STANDARD
END:VTIMEZONE
BEGIN:VEVENT
DTSTART;TZID=America/Los_Angeles:20240907T090000
DTEND;TZID=America/Los_Angeles:20240907T130000
DTSTAMP:20260424T101515
CREATED:20231219T060514Z
LAST-MODIFIED:20231219T060514Z
UID:3235-1725699600-1725714000@www.smka.org
SUMMARY:SMKA Track Cleanup
DESCRIPTION:On Saturday\, Sept 7th\, the SMKA will host a track cleanup day. The track will be closed to practice during cleanup hours. 
URL:https://www.smka.org/event/smka-track-cleanup/
END:VEVENT
BEGIN:VEVENT
DTSTART;VALUE=DATE:20240908
DTEND;VALUE=DATE:20240909
DTSTAMP:20260424T101515
CREATED:20231219T042534Z
LAST-MODIFIED:20240628T231947Z
UID:3145-1725753600-1725839999@www.smka.org
SUMMARY:SMKA Club Race #6
DESCRIPTION:SMKA Club Race #6\nSunday\, September 8\, 2024\nGates open at 7 AM\, registration closes at 9AM. \nSee the Club Racing Section on the website for more information.
URL:https://www.smka.org/event/smkc-club-race-6/
LOCATION:SMKA
END:VEVENT
BEGIN:VEVENT
DTSTART;TZID=America/Los_Angeles:20240911T173000
DTEND;TZID=America/Los_Angeles:20240911T173000
DTSTAMP:20260424T101515
CREATED:20240109T050802Z
LAST-MODIFIED:20240109T050802Z
UID:3259-1726075800-1726075800@www.smka.org
SUMMARY:September SMKA Board Meeting
DESCRIPTION:The SMKA Board meets the 2nd Wednesday of the month at Giovanni’s in Orcutt\, there is a closed meeting room in the back we use. Members are welcome to join the monthly board meeting. Dinner preceeding the meeting which promptly starts at 6pm.
URL:https://www.smka.org/event/september-smka-board-meeting/
LOCATION:Giavanni’s Pizza\, 1108 East Clark\, Suite 130\, Santa Maria\, CA\, 93455\, United States
ORGANIZER;CN="SMKA":MAILTO:info@smka.org
END:VEVENT
BEGIN:VEVENT
DTSTART;VALUE=DATE:20240914
DTEND;VALUE=DATE:20240915
DTSTAMP:20260424T101515
CREATED:20231219T045809Z
LAST-MODIFIED:20240110T051943Z
UID:3192-1726272000-1726358399@www.smka.org
SUMMARY:Motorcycle Track Day – Saturday\, September 14th (Track closed to karts)
DESCRIPTION:Open Track Day for Motorcycles Saturday\, September 14th. Gates open at 8 AM. Please contact Ashley at a.evans.smka@gmail.com for information regarding motorcycles. The track will be closed to karts on this day.
URL:https://www.smka.org/event/motorcycle-track-day-saturday-september-14th-track-closed-to-karts-2/
END:VEVENT
BEGIN:VEVENT
DTSTART;VALUE=DATE:20240920
DTEND;VALUE=DATE:20240923
DTSTAMP:20260424T101515
CREATED:20240305T051624Z
LAST-MODIFIED:20240305T051624Z
UID:3346-1726790400-1727049599@www.smka.org
SUMMARY:Santa Maria Airfest - Track Closed
DESCRIPTION:The Santa Maria Airfest is September 20-22th and will be closed during this time. 
URL:https://www.smka.org/event/santa-maria-airfest-track-closed/
END:VEVENT
END:VCALENDAR