BEGIN:VCALENDAR
VERSION:2.0
PRODID:-//Santa Maria Karting Association - ECPv6.15.20//NONSGML v1.0//EN
CALSCALE:GREGORIAN
METHOD:PUBLISH
X-WR-CALNAME:Santa Maria Karting Association
X-ORIGINAL-URL:https://www.smka.org
X-WR-CALDESC:Events for Santa Maria Karting Association
REFRESH-INTERVAL;VALUE=DURATION:PT1H
X-Robots-Tag:noindex
X-PUBLISHED-TTL:PT1H
BEGIN:VTIMEZONE
TZID:America/Los_Angeles
BEGIN:DAYLIGHT
TZOFFSETFROM:-0800
TZOFFSETTO:-0700
TZNAME:PDT
DTSTART:20230312T100000
END:DAYLIGHT
BEGIN:STANDARD
TZOFFSETFROM:-0700
TZOFFSETTO:-0800
TZNAME:PST
DTSTART:20231105T090000
END:STANDARD
BEGIN:DAYLIGHT
TZOFFSETFROM:-0800
TZOFFSETTO:-0700
TZNAME:PDT
DTSTART:20240310T100000
END:DAYLIGHT
BEGIN:STANDARD
TZOFFSETFROM:-0700
TZOFFSETTO:-0800
TZNAME:PST
DTSTART:20241103T090000
END:STANDARD
BEGIN:DAYLIGHT
TZOFFSETFROM:-0800
TZOFFSETTO:-0700
TZNAME:PDT
DTSTART:20250309T100000
END:DAYLIGHT
BEGIN:STANDARD
TZOFFSETFROM:-0700
TZOFFSETTO:-0800
TZNAME:PST
DTSTART:20251102T090000
END:STANDARD
END:VTIMEZONE
BEGIN:VEVENT
DTSTART;VALUE=DATE:20240804
DTEND;VALUE=DATE:20240805
DTSTAMP:20260424T112327
CREATED:20231219T042532Z
LAST-MODIFIED:20240628T231905Z
UID:3144-1722729600-1722815999@www.smka.org
SUMMARY:SMKA Club Race #5
DESCRIPTION:SMKA Club Race #5\nSunday\, August 4\, 2024\nGates open at 7 AM.  Registration closes at 9AM. \nSee the Club Racing Section on the website for more information.
URL:https://www.smka.org/event/smkc-club-race-5/
LOCATION:SMKA
END:VEVENT
BEGIN:VEVENT
DTSTART;VALUE=DATE:20240810
DTEND;VALUE=DATE:20240811
DTSTAMP:20260424T112327
CREATED:20231219T045809Z
LAST-MODIFIED:20240110T051827Z
UID:3191-1723248000-1723334399@www.smka.org
SUMMARY:Motorcycle Track Day – Saturday\, August 10th (Track closed to karts)
DESCRIPTION:Open Track Day for Motorcycles Saturday\, August 10th. Gates open at 8 AM. Please contact Ashley at a.evans.smka@gmail.com for information regarding motorcycles. The track will be closed to karts on this day.
URL:https://www.smka.org/event/motorcycle-track-day-saturday-august-10th-track-closed-to-karts-2/
END:VEVENT
BEGIN:VEVENT
DTSTART;TZID=America/Los_Angeles:20240814T173000
DTEND;TZID=America/Los_Angeles:20240814T173000
DTSTAMP:20260424T112327
CREATED:20240109T050802Z
LAST-MODIFIED:20240109T050802Z
UID:3258-1723656600-1723656600@www.smka.org
SUMMARY:August SMKA Board Meeting
DESCRIPTION:The SMKA Board meets the 2nd Wednesday of the month at Giovanni’s in Orcutt\, there is a closed meeting room in the back we use. Members are welcome to join the monthly board meeting. Dinner preceeding the meeting which promptly starts at 6pm.
URL:https://www.smka.org/event/august-smka-board-meeting/
LOCATION:Giavanni’s Pizza\, 1108 East Clark\, Suite 130\, Santa Maria\, CA\, 93455\, United States
ORGANIZER;CN="SMKA":MAILTO:info@smka.org
END:VEVENT
BEGIN:VEVENT
DTSTART;VALUE=DATE:20240817
DTEND;VALUE=DATE:20240819
DTSTAMP:20260424T112327
CREATED:20240130T042359Z
LAST-MODIFIED:20240130T042437Z
UID:3292-1723852800-1724025599@www.smka.org
SUMMARY:California Kart Racing Association - Colby Dubato Memorial Race
DESCRIPTION:On Saturday and Sunday August 19th and 20th\, the California Kart Racing Association will be hosting the Colby Dubato Memorial Race at Santa Maria.  \nPlease visit their social media and website for full information.  \nPlease note the track is closed this weekend to regular member activity during this event. 
URL:https://www.smka.org/event/california-kart-racing-association-colby-dubato-memorial-race/
LOCATION:SMKA
END:VEVENT
END:VCALENDAR