BEGIN:VCALENDAR
VERSION:2.0
PRODID:-//Santa Maria Karting Association - ECPv6.15.20//NONSGML v1.0//EN
CALSCALE:GREGORIAN
METHOD:PUBLISH
X-ORIGINAL-URL:https://www.smka.org
X-WR-CALDESC:Events for Santa Maria Karting Association
REFRESH-INTERVAL;VALUE=DURATION:PT1H
X-Robots-Tag:noindex
X-PUBLISHED-TTL:PT1H
BEGIN:VTIMEZONE
TZID:America/Los_Angeles
BEGIN:DAYLIGHT
TZOFFSETFROM:-0800
TZOFFSETTO:-0700
TZNAME:PDT
DTSTART:20230312T100000
END:DAYLIGHT
BEGIN:STANDARD
TZOFFSETFROM:-0700
TZOFFSETTO:-0800
TZNAME:PST
DTSTART:20231105T090000
END:STANDARD
BEGIN:DAYLIGHT
TZOFFSETFROM:-0800
TZOFFSETTO:-0700
TZNAME:PDT
DTSTART:20240310T100000
END:DAYLIGHT
BEGIN:STANDARD
TZOFFSETFROM:-0700
TZOFFSETTO:-0800
TZNAME:PST
DTSTART:20241103T090000
END:STANDARD
BEGIN:DAYLIGHT
TZOFFSETFROM:-0800
TZOFFSETTO:-0700
TZNAME:PDT
DTSTART:20250309T100000
END:DAYLIGHT
BEGIN:STANDARD
TZOFFSETFROM:-0700
TZOFFSETTO:-0800
TZNAME:PST
DTSTART:20251102T090000
END:STANDARD
END:VTIMEZONE
BEGIN:VEVENT
DTSTART;TZID=America/Los_Angeles:20240710T173000
DTEND;TZID=America/Los_Angeles:20240710T173000
DTSTAMP:20260424T123244
CREATED:20240109T050802Z
LAST-MODIFIED:20240109T050802Z
UID:3257-1720632600-1720632600@www.smka.org
SUMMARY:July SMKA Board Meeting
DESCRIPTION:The SMKA Board meets the 2nd Wednesday of the month at Giovanni’s in Orcutt\, there is a closed meeting room in the back we use. Members are welcome to join the monthly board meeting. Dinner preceeding the meeting which promptly starts at 6pm.
URL:https://www.smka.org/event/july-smka-board-meeting/
LOCATION:Giavanni’s Pizza\, 1108 East Clark\, Suite 130\, Santa Maria\, CA\, 93455\, United States
ORGANIZER;CN="SMKA":MAILTO:info@smka.org
END:VEVENT
BEGIN:VEVENT
DTSTART;VALUE=DATE:20240713
DTEND;VALUE=DATE:20240714
DTSTAMP:20260424T123244
CREATED:20231219T045808Z
LAST-MODIFIED:20240110T051743Z
UID:3190-1720828800-1720915199@www.smka.org
SUMMARY:Motorcycle Track Day – Saturday\, July 13th (Track closed to karts)
DESCRIPTION:Open Track Day for Motorcycles Saturday\, July 13th. Gates open at 8 AM. Please contact Ashley at a.evans.smka@gmail.com for information regarding motorcycles. The track will be closed to karts on this day.
URL:https://www.smka.org/event/motorcycle-track-day-saturday-july-13th-track-closed-to-karts-2/
END:VEVENT
BEGIN:VEVENT
DTSTART;VALUE=DATE:20240719
DTEND;VALUE=DATE:20240722
DTSTAMP:20260424T123244
CREATED:20240130T043149Z
LAST-MODIFIED:20240130T043244Z
UID:3296-1721347200-1721606399@www.smka.org
SUMMARY:ROK West
DESCRIPTION:ROK west will host an event Friday through Sunday\, July 19th-21st. \nAdditional information will be added as it is finalized. 
URL:https://www.smka.org/event/rok-west/
LOCATION:SMKA
END:VEVENT
BEGIN:VEVENT
DTSTART;VALUE=DATE:20240726
DTEND;VALUE=DATE:20240728
DTSTAMP:20260424T123244
CREATED:20240130T041022Z
LAST-MODIFIED:20240130T041022Z
UID:3286-1721952000-1722124799@www.smka.org
SUMMARY:Vintage Kart Club of America
DESCRIPTION:On Friday and Saturday July 26th and 27th\, the Vintage Kart Club of America will be hosting an event at the SMKA.  \nAdditional information can be found on their website. https://www.vintagekartclubofamerica.com/ \nPlease be aware this is a private track rental and the track is closed to regular activity on these days. 
URL:https://www.smka.org/event/vintage-kart-club-of-america/
LOCATION:SMKA
ORGANIZER;CN="Vintage Kart Club of America":MAILTO:stburlap@yahoo.com
END:VEVENT
END:VCALENDAR