BEGIN:VCALENDAR
VERSION:2.0
PRODID:-//Santa Maria Karting Association - ECPv6.15.20//NONSGML v1.0//EN
CALSCALE:GREGORIAN
METHOD:PUBLISH
X-ORIGINAL-URL:https://www.smka.org
X-WR-CALDESC:Events for Santa Maria Karting Association
REFRESH-INTERVAL;VALUE=DURATION:PT1H
X-Robots-Tag:noindex
X-PUBLISHED-TTL:PT1H
BEGIN:VTIMEZONE
TZID:America/Los_Angeles
BEGIN:DAYLIGHT
TZOFFSETFROM:-0800
TZOFFSETTO:-0700
TZNAME:PDT
DTSTART:20230312T100000
END:DAYLIGHT
BEGIN:STANDARD
TZOFFSETFROM:-0700
TZOFFSETTO:-0800
TZNAME:PST
DTSTART:20231105T090000
END:STANDARD
BEGIN:DAYLIGHT
TZOFFSETFROM:-0800
TZOFFSETTO:-0700
TZNAME:PDT
DTSTART:20240310T100000
END:DAYLIGHT
BEGIN:STANDARD
TZOFFSETFROM:-0700
TZOFFSETTO:-0800
TZNAME:PST
DTSTART:20241103T090000
END:STANDARD
BEGIN:DAYLIGHT
TZOFFSETFROM:-0800
TZOFFSETTO:-0700
TZNAME:PDT
DTSTART:20250309T100000
END:DAYLIGHT
BEGIN:STANDARD
TZOFFSETFROM:-0700
TZOFFSETTO:-0800
TZNAME:PST
DTSTART:20251102T090000
END:STANDARD
END:VTIMEZONE
BEGIN:VEVENT
DTSTART;TZID=America/Los_Angeles:20240601T090000
DTEND;TZID=America/Los_Angeles:20240601T130000
DTSTAMP:20260424T134348
CREATED:20231219T060252Z
LAST-MODIFIED:20231219T060338Z
UID:3233-1717232400-1717246800@www.smka.org
SUMMARY:Track Cleanup Day
DESCRIPTION:On Saturday the SMKA will host a track cleanup day. The track will be closed during cleanup hours. 
URL:https://www.smka.org/event/track-cleanup-day/
END:VEVENT
BEGIN:VEVENT
DTSTART;VALUE=DATE:20240602
DTEND;VALUE=DATE:20240603
DTSTAMP:20260424T134348
CREATED:20231219T042532Z
LAST-MODIFIED:20231219T044239Z
UID:3143-1717286400-1717372799@www.smka.org
SUMMARY:SMKA Club Race #4
DESCRIPTION:SMKA Club Race #4\nSunday\, June 2\, 2024\nGates open at 8 AM \nSee the Club Racing Section on the website for more information.
URL:https://www.smka.org/event/smkc-club-race-4/
LOCATION:SMKA
END:VEVENT
BEGIN:VEVENT
DTSTART;VALUE=DATE:20240608
DTEND;VALUE=DATE:20240609
DTSTAMP:20260424T134348
CREATED:20231219T045808Z
LAST-MODIFIED:20240110T051627Z
UID:3189-1717804800-1717891199@www.smka.org
SUMMARY:Motorcycle Track Day – Saturday\, June 8th (Track closed to karts)
DESCRIPTION:Open Track Day for Motorcycles Saturday\, June 8th. Gates open at 8 AM. Please contact Ashley at a.evans.smka@gmail.com for information regarding motorcycles. The track will be closed to karts on this day.
URL:https://www.smka.org/event/motorcycle-track-day-saturday-june-8th-track-closed-to-karts-2/
END:VEVENT
BEGIN:VEVENT
DTSTART;TZID=America/Los_Angeles:20240612T173000
DTEND;TZID=America/Los_Angeles:20240612T173000
DTSTAMP:20260424T134348
CREATED:20240109T050802Z
LAST-MODIFIED:20240109T050802Z
UID:3256-1718213400-1718213400@www.smka.org
SUMMARY:June SMKA Board Meeting
DESCRIPTION:The SMKA Board meets the 2nd Wednesday of the month at Giovanni’s in Orcutt\, there is a closed meeting room in the back we use. Members are welcome to join the monthly board meeting. Dinner preceeding the meeting which promptly starts at 6pm.
URL:https://www.smka.org/event/june-smka-board-meeting/
LOCATION:Giavanni’s Pizza\, 1108 East Clark\, Suite 130\, Santa Maria\, CA\, 93455\, United States
ORGANIZER;CN="SMKA":MAILTO:info@smka.org
END:VEVENT
BEGIN:VEVENT
DTSTART;VALUE=DATE:20240616
DTEND;VALUE=DATE:20240617
DTSTAMP:20260424T134348
CREATED:20240515T175035Z
LAST-MODIFIED:20240515T175143Z
UID:3369-1718496000-1718582399@www.smka.org
SUMMARY:SMKA Club Race - Make up Race
DESCRIPTION:June 16\n\n\nSMKA Club Make up Race for the March race which was cancelled due to rain. \nSunday\, June 16\, 2024\nGates open at 7:30 AM \nSee the Club Racing Section on the website for more information
URL:https://www.smka.org/event/smka-club-race-5/
LOCATION:SMKA
ORGANIZER;CN="SMKA":MAILTO:info@smka.org
END:VEVENT
END:VCALENDAR